BEGIN:VCALENDAR
VERSION:2.0
PRODID:-//Huntley Project Lions Club | Official Website - ECPv6.15.11//NONSGML v1.0//EN
CALSCALE:GREGORIAN
METHOD:PUBLISH
X-WR-CALNAME:Huntley Project Lions Club | Official Website
X-ORIGINAL-URL:https://hplionsclub.org
X-WR-CALDESC:Events for Huntley Project Lions Club | Official Website
REFRESH-INTERVAL;VALUE=DURATION:PT1H
X-Robots-Tag:noindex
X-PUBLISHED-TTL:PT1H
BEGIN:VTIMEZONE
TZID:UTC
BEGIN:STANDARD
TZOFFSETFROM:+0000
TZOFFSETTO:+0000
TZNAME:UTC
DTSTART:20220101T000000
END:STANDARD
END:VTIMEZONE
BEGIN:VEVENT
DTSTART;TZID=UTC:20230807T080000
DTEND;TZID=UTC:20231107T080000
DTSTAMP:20260419T062004
CREATED:20150327T053212Z
LAST-MODIFIED:20221108T074414Z
UID:1647-1691395200-1699344000@hplionsclub.org
SUMMARY:Community Calendar
DESCRIPTION:Order Your 2022 Community Calendar Now!\nIt’s almost that time again! Don’t forget to order (or renew) your Huntley Project Lions & Lioness Club 2024 Community Calendar. We are happy to announce you can order your calendar online on our website starting August 7\, 2023. Click the button below to place your order. If you are renewing your calendar for next year\, be sure to list any changes or updates in the “Order Notes” field during checkout. We will make sure the changes are included. Thank you for your continued support! The HP Lions & Lioness Club is proud to serve this wonderful community! \nClick Here to Order
URL:https://hplionsclub.org/events/calendar/
ORGANIZER;CN="HP Lions Club":MAILTO:info@hplionsclub.org
END:VEVENT
END:VCALENDAR