BEGIN:VCALENDAR
VERSION:2.0
PRODID:-//Huntley Project Lions Club | Official Website - ECPv6.15.11//NONSGML v1.0//EN
CALSCALE:GREGORIAN
METHOD:PUBLISH
X-WR-CALNAME:Huntley Project Lions Club | Official Website
X-ORIGINAL-URL:https://hplionsclub.org
X-WR-CALDESC:Events for Huntley Project Lions Club | Official Website
REFRESH-INTERVAL;VALUE=DURATION:PT1H
X-Robots-Tag:noindex
X-PUBLISHED-TTL:PT1H
BEGIN:VTIMEZONE
TZID:America/Denver
BEGIN:DAYLIGHT
TZOFFSETFROM:-0700
TZOFFSETTO:-0600
TZNAME:MDT
DTSTART:20250309T090000
END:DAYLIGHT
BEGIN:STANDARD
TZOFFSETFROM:-0600
TZOFFSETTO:-0700
TZNAME:MST
DTSTART:20251102T080000
END:STANDARD
BEGIN:DAYLIGHT
TZOFFSETFROM:-0700
TZOFFSETTO:-0600
TZNAME:MDT
DTSTART:20260308T090000
END:DAYLIGHT
BEGIN:STANDARD
TZOFFSETFROM:-0600
TZOFFSETTO:-0700
TZNAME:MST
DTSTART:20261101T080000
END:STANDARD
BEGIN:DAYLIGHT
TZOFFSETFROM:-0700
TZOFFSETTO:-0600
TZNAME:MDT
DTSTART:20270314T090000
END:DAYLIGHT
BEGIN:STANDARD
TZOFFSETFROM:-0600
TZOFFSETTO:-0700
TZNAME:MST
DTSTART:20271107T080000
END:STANDARD
END:VTIMEZONE
BEGIN:VEVENT
DTSTART;TZID=America/Denver:20260710T163000
DTEND;TZID=America/Denver:20260712T010000
DTSTAMP:20260421T124858
CREATED:20150216T105620Z
LAST-MODIFIED:20260311T055527Z
UID:1014-1783701000-1783818000@hplionsclub.org
SUMMARY:Outdoor Concert
DESCRIPTION:  \n\nOutdoor Concert\nThe 62nd Annual Homesteader Days will kick off the evening of July 10th\, 2026 with the Outdoor Concert. Gates open at 4:30pm. The Chancey Williams will start at 6:30pm\, followed by Darryl Worley at 8:00pm. The concert will be held the 7-acre Homesteader Park. There is lots of room\, plenty of shade trees\, and a park full of nice folks. Bring your own lawn chairs. \n\n  \n\nSchedule of Events\n\n– 4:30pm: Gates Open\n– 6:30pm: Chancey Williams\n– 8:00pm: Darryl Worley\n– 10:00pm: Exit 53 (After-Party)\n– Food and drinks available on grounds\n– Beer gardens open until 1:00am\n– No coolers please!\n– NO re-entry!\n\n\n\n  \n\n  \n\nTicket Information\nAdvanced tickets can be Purchased Online thru July 9th for $45.00 plus credit card processing fee. July 10th General Admission tickets can be purchased for $55 at Shipton’s Big R – Billings\, R & R Trading – Huntley\, and Project Merc – Worden.  Tickets are available online through July 10th and can be purchased with cash at the gate starting at 4:30 pm. Kids 6 and under get in free. NO re-entry unless there is a weather related emergency. \n\n  \n\n\n  \n\n  \n\n2026 Concert: Exit 53\n \n\n\n  \n\n  \n\n\n  \n\n  \n\n2026 Concert: Darryl Worley\n \n\n  \n\n2026 Concert: Chancey Williams\n \n\n\n  \n\n  \n\n\n  \n\n 
URL:https://hplionsclub.org/events/outdoor-concert/
LOCATION:Homesteader Park\, 760 Railroad Highway\, Huntley\, MT\, 59037\, United States
ORGANIZER;CN="Bethany Hein":MAILTO:info@hplionsclub.org
END:VEVENT
BEGIN:VEVENT
DTSTART;TZID=America/Denver:20260710T163000
DTEND;TZID=America/Denver:20260712T010000
DTSTAMP:20260421T124858
CREATED:20150323T102231Z
LAST-MODIFIED:20260311T054154Z
UID:1429-1783701000-1783818000@hplionsclub.org
SUMMARY:Homesteader Days
DESCRIPTION:Photos of Homesteader Days:
URL:https://hplionsclub.org/events/homesteader-days/
LOCATION:Homesteader Park\, 760 Railroad Highway\, Huntley\, MT\, 59037\, United States
ORGANIZER;CN="Bethany Hein":MAILTO:info@hplionsclub.org
END:VEVENT
BEGIN:VEVENT
DTSTART;TZID=America/Denver:20260711T110000
DTEND;TZID=America/Denver:20260712T010000
DTSTAMP:20260421T124858
CREATED:20160202T124707Z
LAST-MODIFIED:20260311T053203Z
UID:2528-1783767600-1783818000@hplionsclub.org
SUMMARY:Beer Garden Entertainment
DESCRIPTION:One of our most coveted Homesteader Days traditions. If you’re looking for a great place to find a cold beer on Saturday\, you’ll find an ice cold alcoholic beverage in the Beer Garden. Pull up a stump and kick up some sawdust as you share a cold one and a story with your friends or one of the locals who return year after year to visit and carry on. The Beer Garden opens at 11:00 am and closes at 12:30 am. Thanks to our sponsors at Coors we serve ice cold draft Coors\, Coors Light\, Blue Moon\, and assorted canned alcoholic beverages. \nIf you’re looking for a day full of activities we’ve got it or you’re more than welcome to spend the day in the Beer Garden with family and friends. Want to start early? You can enjoy an ice cold beverage inside the Beer Garden while you watch the parade\, then drift outside to enjoy a delicious lunch of Lions Club BBQ Beef and Chicken or burgers\, tacos and nachos from our local vendors. Follow that up with a walk through the games and carnival rides\, a game of bingo and a trip through the craft vendors. \nIf you want to watch kids and adults in Fun on the Farm it starts at 2:00 pm. You’ll absolutely want to stick around for the Greased Pig Wrestling at 5:30 pm. It’s fun for the whole family. Beer Garden live entertainment will begin on stage at 8:00 pm. There will be a live auction of assorted items donated by Briggs Distributing followed up by another one of our bests\, an exhilarating fireworks show at dusk. All alcoholic beverages must stay in the Beer Garden. You must be age 21 to enter and must show a valid ID.
URL:https://hplionsclub.org/events/beer-garden-entertainment/
LOCATION:Homesteader Park\, 760 Railroad Highway\, Huntley\, MT\, 59037\, United States
END:VEVENT
END:VCALENDAR